BEGIN:VCALENDAR
VERSION:2.0
PRODID:-//Abfotoklubb - ECPv6.15.17.1//NONSGML v1.0//EN
CALSCALE:GREGORIAN
METHOD:PUBLISH
X-ORIGINAL-URL:https://www.abfotoklubb.no
X-WR-CALDESC:Arrangement for Abfotoklubb
REFRESH-INTERVAL;VALUE=DURATION:PT1H
X-Robots-Tag:noindex
X-PUBLISHED-TTL:PT1H
BEGIN:VTIMEZONE
TZID:Europe/Oslo
BEGIN:DAYLIGHT
TZOFFSETFROM:+0100
TZOFFSETTO:+0200
TZNAME:CEST
DTSTART:20250330T010000
END:DAYLIGHT
BEGIN:STANDARD
TZOFFSETFROM:+0200
TZOFFSETTO:+0100
TZNAME:CET
DTSTART:20251026T010000
END:STANDARD
BEGIN:DAYLIGHT
TZOFFSETFROM:+0100
TZOFFSETTO:+0200
TZNAME:CEST
DTSTART:20260329T010000
END:DAYLIGHT
BEGIN:STANDARD
TZOFFSETFROM:+0200
TZOFFSETTO:+0100
TZNAME:CET
DTSTART:20261025T010000
END:STANDARD
BEGIN:DAYLIGHT
TZOFFSETFROM:+0100
TZOFFSETTO:+0200
TZNAME:CEST
DTSTART:20270328T010000
END:DAYLIGHT
BEGIN:STANDARD
TZOFFSETFROM:+0200
TZOFFSETTO:+0100
TZNAME:CET
DTSTART:20271031T010000
END:STANDARD
END:VTIMEZONE
BEGIN:VEVENT
DTSTART;TZID=Europe/Oslo:20260428T190000
DTEND;TZID=Europe/Oslo:20260428T210000
DTSTAMP:20260423T113350
CREATED:20260415T122423Z
LAST-MODIFIED:20260415T122647Z
UID:4458-1777402800-1777410000@www.abfotoklubb.no
SUMMARY:Tema bildevurdering/juryering
DESCRIPTION:Geir vil snakke mer om temaet bildevurdering/juryering.
URL:https://www.abfotoklubb.no/hendelse/fotokafe-3/
LOCATION:Sandvika videregående skole\, Elias Smiths vei 15\, Sandvika\, 1337\, Norway
CATEGORIES:Fotocafé
END:VEVENT
BEGIN:VEVENT
DTSTART;TZID=Europe/Oslo:20260505T235900
DTEND;TZID=Europe/Oslo:20260505T235900
DTSTAMP:20260423T113350
CREATED:20251218T123414Z
LAST-MODIFIED:20251220T103437Z
UID:4305-1778025540-1778025540@www.abfotoklubb.no
SUMMARY:Tema: Vær og vind
DESCRIPTION:
URL:https://www.abfotoklubb.no/hendelse/tema-vaer-og-vind/
CATEGORIES:Innlev.frist,Månedskonkurranse
END:VEVENT
BEGIN:VEVENT
DTSTART;TZID=Europe/Oslo:20260512T190000
DTEND;TZID=Europe/Oslo:20260512T213000
DTSTAMP:20260423T113350
CREATED:20260303T210540Z
LAST-MODIFIED:20260304T131723Z
UID:4404-1778612400-1778621400@www.abfotoklubb.no
SUMMARY:Foredragsholder: Thor Håkonsen fra Cewe
DESCRIPTION:Thor Håkonsen kommer fra CEWE for å presentere CEWE og deres bildeprodukter\, primært veggbilder og CEWE Fotobok. Thor har også med demoprodukter av produkttypene de leverer.
URL:https://www.abfotoklubb.no/hendelse/thor-hakonsen-fra-cewe/
CATEGORIES:Klubbmøte
END:VEVENT
BEGIN:VEVENT
DTSTART;TZID=Europe/Oslo:20260609T180000
DTEND;TZID=Europe/Oslo:20260609T220000
DTSTAMP:20260423T113350
CREATED:20260415T123022Z
LAST-MODIFIED:20260415T123022Z
UID:4467-1781028000-1781042400@www.abfotoklubb.no
SUMMARY:Sommeravslutning
DESCRIPTION:Vi kommer tilbake med tid og sted for sommeravslutningen.
URL:https://www.abfotoklubb.no/hendelse/sommeravslutning-4/
END:VEVENT
BEGIN:VEVENT
DTSTART;TZID=Europe/Oslo:20260901T235900
DTEND;TZID=Europe/Oslo:20260901T235900
DTSTAMP:20260423T113350
CREATED:20251218T123720Z
LAST-MODIFIED:20251220T103530Z
UID:4307-1788307140-1788307140@www.abfotoklubb.no
SUMMARY:Tema: Nærbilde/makro
DESCRIPTION:
URL:https://www.abfotoklubb.no/hendelse/tema-naerbilde-makro/
CATEGORIES:Innlev.frist,Månedskonkurranse
END:VEVENT
BEGIN:VEVENT
DTSTART;TZID=Europe/Oslo:20260908T190000
DTEND;TZID=Europe/Oslo:20260908T213000
DTSTAMP:20260423T113350
CREATED:20251220T104649Z
LAST-MODIFIED:20251220T104649Z
UID:4323-1788894000-1788903000@www.abfotoklubb.no
SUMMARY:Klubbmøte
DESCRIPTION:
URL:https://www.abfotoklubb.no/hendelse/klubbmote-19/
END:VEVENT
BEGIN:VEVENT
DTSTART;TZID=Europe/Oslo:20261006T235900
DTEND;TZID=Europe/Oslo:20261006T235900
DTSTAMP:20260423T113350
CREATED:20251218T123920Z
LAST-MODIFIED:20251220T103622Z
UID:4310-1791331140-1791331140@www.abfotoklubb.no
SUMMARY:Tema: Byens lys
DESCRIPTION:
URL:https://www.abfotoklubb.no/hendelse/tema-byens-lys/
CATEGORIES:Innlev.frist,Månedskonkurranse
END:VEVENT
BEGIN:VEVENT
DTSTART;TZID=Europe/Oslo:20261013T190000
DTEND;TZID=Europe/Oslo:20261013T213000
DTSTAMP:20260423T113350
CREATED:20251220T104855Z
LAST-MODIFIED:20251220T104855Z
UID:4327-1791918000-1791927000@www.abfotoklubb.no
SUMMARY:Klubbmøte
DESCRIPTION:
URL:https://www.abfotoklubb.no/hendelse/klubbmote-20/
END:VEVENT
BEGIN:VEVENT
DTSTART;TZID=Europe/Oslo:20261103T235900
DTEND;TZID=Europe/Oslo:20261103T235900
DTSTAMP:20260423T113350
CREATED:20251218T124238Z
LAST-MODIFIED:20251220T103710Z
UID:4312-1793750340-1793750340@www.abfotoklubb.no
SUMMARY:Tema: Håndens arbeid
DESCRIPTION:
URL:https://www.abfotoklubb.no/hendelse/tema-handens-arbeid/
CATEGORIES:Innlev.frist,Månedskonkurranse
END:VEVENT
BEGIN:VEVENT
DTSTART;TZID=Europe/Oslo:20261110T190000
DTEND;TZID=Europe/Oslo:20261110T213000
DTSTAMP:20260423T113350
CREATED:20251220T105101Z
LAST-MODIFIED:20251220T105101Z
UID:4330-1794337200-1794346200@www.abfotoklubb.no
SUMMARY:Klubbmøte
DESCRIPTION:
URL:https://www.abfotoklubb.no/hendelse/klubbmote-21/
END:VEVENT
END:VCALENDAR