BEGIN:VCALENDAR
VERSION:2.0
PRODID:-//Abfotoklubb - ECPv6.15.17.1//NONSGML v1.0//EN
CALSCALE:GREGORIAN
METHOD:PUBLISH
X-ORIGINAL-URL:https://www.abfotoklubb.no
X-WR-CALDESC:Arrangement for Abfotoklubb
REFRESH-INTERVAL;VALUE=DURATION:PT1H
X-Robots-Tag:noindex
X-PUBLISHED-TTL:PT1H
BEGIN:VTIMEZONE
TZID:Europe/Oslo
BEGIN:DAYLIGHT
TZOFFSETFROM:+0100
TZOFFSETTO:+0200
TZNAME:CEST
DTSTART:20240331T010000
END:DAYLIGHT
BEGIN:STANDARD
TZOFFSETFROM:+0200
TZOFFSETTO:+0100
TZNAME:CET
DTSTART:20241027T010000
END:STANDARD
BEGIN:DAYLIGHT
TZOFFSETFROM:+0100
TZOFFSETTO:+0200
TZNAME:CEST
DTSTART:20250330T010000
END:DAYLIGHT
BEGIN:STANDARD
TZOFFSETFROM:+0200
TZOFFSETTO:+0100
TZNAME:CET
DTSTART:20251026T010000
END:STANDARD
BEGIN:DAYLIGHT
TZOFFSETFROM:+0100
TZOFFSETTO:+0200
TZNAME:CEST
DTSTART:20260329T010000
END:DAYLIGHT
BEGIN:STANDARD
TZOFFSETFROM:+0200
TZOFFSETTO:+0100
TZNAME:CET
DTSTART:20261025T010000
END:STANDARD
END:VTIMEZONE
BEGIN:VEVENT
DTSTART;TZID=Europe/Oslo:20250429T190000
DTEND;TZID=Europe/Oslo:20250429T190000
DTSTAMP:20260423T053232
CREATED:20241217T174353Z
LAST-MODIFIED:20250427T111825Z
UID:4026-1745953200-1745953200@www.abfotoklubb.no
SUMMARY:Fotocafe
DESCRIPTION:Geir Arnesen viser bilder fra reise til Sør-Korea og Japan
URL:https://www.abfotoklubb.no/hendelse/fotocafe-22/
LOCATION:Asker innbyggertorg\, Kirkeveien 204\, Asker\, Norway
CATEGORIES:Fotocafé
END:VEVENT
END:VCALENDAR