BEGIN:VCALENDAR
VERSION:2.0
PRODID:-//Abfotoklubb - ECPv6.15.17.1//NONSGML v1.0//EN
CALSCALE:GREGORIAN
METHOD:PUBLISH
X-WR-CALNAME:Abfotoklubb
X-ORIGINAL-URL:https://www.abfotoklubb.no
X-WR-CALDESC:Arrangement for Abfotoklubb
REFRESH-INTERVAL;VALUE=DURATION:PT1H
X-Robots-Tag:noindex
X-PUBLISHED-TTL:PT1H
BEGIN:VTIMEZONE
TZID:Europe/Oslo
BEGIN:DAYLIGHT
TZOFFSETFROM:+0100
TZOFFSETTO:+0200
TZNAME:CEST
DTSTART:20250330T010000
END:DAYLIGHT
BEGIN:STANDARD
TZOFFSETFROM:+0200
TZOFFSETTO:+0100
TZNAME:CET
DTSTART:20251026T010000
END:STANDARD
BEGIN:DAYLIGHT
TZOFFSETFROM:+0100
TZOFFSETTO:+0200
TZNAME:CEST
DTSTART:20260329T010000
END:DAYLIGHT
BEGIN:STANDARD
TZOFFSETFROM:+0200
TZOFFSETTO:+0100
TZNAME:CET
DTSTART:20261025T010000
END:STANDARD
BEGIN:DAYLIGHT
TZOFFSETFROM:+0100
TZOFFSETTO:+0200
TZNAME:CEST
DTSTART:20270328T010000
END:DAYLIGHT
BEGIN:STANDARD
TZOFFSETFROM:+0200
TZOFFSETTO:+0100
TZNAME:CET
DTSTART:20271031T010000
END:STANDARD
END:VTIMEZONE
BEGIN:VEVENT
DTSTART;TZID=Europe/Oslo:20260224T190000
DTEND;TZID=Europe/Oslo:20260224T213000
DTSTAMP:20260422T164709
CREATED:20260128T081734Z
LAST-MODIFIED:20260128T082358Z
UID:4371-1771959600-1771968600@www.abfotoklubb.no
SUMMARY:Årsmøte
DESCRIPTION:Årsmøtet 2026 avholdes elektronisk tirsdag 24. februar kl 19:00. \nSaker som ønskes behandlet må være styret i hende senest fredag 30. januar. Alle saker må ha forslag til vedtak. \nEndelig innkalling med sakspapirer og link til møtet kommer senest 10. februar. \nMinner om at medlemskontingent må være betalt for å være stemmeberettiget på årsmøtet. Det er ønskelig at du betaler den snarest.
URL:https://www.abfotoklubb.no/hendelse/arsmote-2026/
CATEGORIES:Årsmøte
END:VEVENT
END:VCALENDAR