BEGIN:VCALENDAR
VERSION:2.0
PRODID:-//Abfotoklubb - ECPv6.15.17.1//NONSGML v1.0//EN
CALSCALE:GREGORIAN
METHOD:PUBLISH
X-ORIGINAL-URL:https://www.abfotoklubb.no
X-WR-CALDESC:Arrangement for Abfotoklubb
REFRESH-INTERVAL;VALUE=DURATION:PT1H
X-Robots-Tag:noindex
X-PUBLISHED-TTL:PT1H
BEGIN:VTIMEZONE
TZID:Europe/Oslo
BEGIN:DAYLIGHT
TZOFFSETFROM:+0100
TZOFFSETTO:+0200
TZNAME:CEST
DTSTART:20250330T010000
END:DAYLIGHT
BEGIN:STANDARD
TZOFFSETFROM:+0200
TZOFFSETTO:+0100
TZNAME:CET
DTSTART:20251026T010000
END:STANDARD
BEGIN:DAYLIGHT
TZOFFSETFROM:+0100
TZOFFSETTO:+0200
TZNAME:CEST
DTSTART:20260329T010000
END:DAYLIGHT
BEGIN:STANDARD
TZOFFSETFROM:+0200
TZOFFSETTO:+0100
TZNAME:CET
DTSTART:20261025T010000
END:STANDARD
BEGIN:DAYLIGHT
TZOFFSETFROM:+0100
TZOFFSETTO:+0200
TZNAME:CEST
DTSTART:20270328T010000
END:DAYLIGHT
BEGIN:STANDARD
TZOFFSETFROM:+0200
TZOFFSETTO:+0100
TZNAME:CET
DTSTART:20271031T010000
END:STANDARD
END:VTIMEZONE
BEGIN:VEVENT
DTSTART;TZID=Europe/Oslo:20260210T190000
DTEND;TZID=Europe/Oslo:20260210T213000
DTSTAMP:20260422T174758
CREATED:20251217T103521Z
LAST-MODIFIED:20251219T100040Z
UID:4269-1770750000-1770759000@www.abfotoklubb.no
SUMMARY:Foredragsholder: Vibeke Glosli
DESCRIPTION:Vibeke Glosli er en kreativ entreprenør\, fotograf og innholdsskaper med sterk lokal tilknytning til Asker. Hun driver egne virksomheter\, er involvert i serverings- og reiselivsbransjen\, og har blitt anerkjent for sitt bidrag til lokalsamfunnet. \nMorten Krogvold skriver om Vibeke og bokprosjektet hennes: “Vibeke Glosli har hatt en betydelig utvikling som fotograf de siste årene. I det interessante og spennende bokprosjektet “Dikemark – Porten stenger kl. 21″ er det fravær som skaper nærvær. Dette er ingen registrering av et nedlagt asyl. Tvert imot – jeg synes jeg kan høre mennesker gå stille rundt – de hvisker og frembringer nattetanker”. “Bilder av en uhyggelig skjønnhet”. \nDu kan lese mer om Vibeke på hennes hjemmeside: \nHome | Vibeke Glosli | Photographer | SoMe & UGC Creator \nTema for månedskonkurransen i februar er: Abstrakt
URL:https://www.abfotoklubb.no/hendelse/foredragsholder-vibeke-glosli/
LOCATION:Sandvika videregående skole\, Elias Smiths vei 15\, Sandvika\, 1337\, Norway
CATEGORIES:Klubbmøte
END:VEVENT
END:VCALENDAR