BEGIN:VCALENDAR
VERSION:2.0
PRODID:-//Abfotoklubb - ECPv6.15.17.1//NONSGML v1.0//EN
CALSCALE:GREGORIAN
METHOD:PUBLISH
X-WR-CALNAME:Abfotoklubb
X-ORIGINAL-URL:https://www.abfotoklubb.no
X-WR-CALDESC:Arrangement for Abfotoklubb
REFRESH-INTERVAL;VALUE=DURATION:PT1H
X-Robots-Tag:noindex
X-PUBLISHED-TTL:PT1H
BEGIN:VTIMEZONE
TZID:Europe/Oslo
BEGIN:DAYLIGHT
TZOFFSETFROM:+0100
TZOFFSETTO:+0200
TZNAME:CEST
DTSTART:20250330T010000
END:DAYLIGHT
BEGIN:STANDARD
TZOFFSETFROM:+0200
TZOFFSETTO:+0100
TZNAME:CET
DTSTART:20251026T010000
END:STANDARD
BEGIN:DAYLIGHT
TZOFFSETFROM:+0100
TZOFFSETTO:+0200
TZNAME:CEST
DTSTART:20260329T010000
END:DAYLIGHT
BEGIN:STANDARD
TZOFFSETFROM:+0200
TZOFFSETTO:+0100
TZNAME:CET
DTSTART:20261025T010000
END:STANDARD
BEGIN:DAYLIGHT
TZOFFSETFROM:+0100
TZOFFSETTO:+0200
TZNAME:CEST
DTSTART:20270328T010000
END:DAYLIGHT
BEGIN:STANDARD
TZOFFSETFROM:+0200
TZOFFSETTO:+0100
TZNAME:CET
DTSTART:20271031T010000
END:STANDARD
END:VTIMEZONE
BEGIN:VEVENT
DTSTART;TZID=Europe/Oslo:20260113T190000
DTEND;TZID=Europe/Oslo:20260113T213000
DTSTAMP:20260422T185811
CREATED:20251209T125020Z
LAST-MODIFIED:20251222T103733Z
UID:4249-1768330800-1768339800@www.abfotoklubb.no
SUMMARY:Foredragsholder Hege Klausen Jaksland
DESCRIPTION:Som medlem av AB fotoklubb er vel Hege kjent for de fleste i klubben. Hun lager stedsspesifikke installasjoner i naturen ved hjelp av fiberkunst\, som hun deretter fotograferer. Verkene destrueres etter at bildene er tatt. Det som er igjen av kunstverket er fotografiet. Hege har også gitt ut boka “Conversations with nature” med bilder av installasjonene. \nDu kan lese mer om Hege på hennes hjemmeside: \nHege Klausen Jaksland \nTema for månedskonkurransen: Selvportrett
URL:https://www.abfotoklubb.no/hendelse/foredrag-med-hege-klausen-jaksland/
LOCATION:Sandvika videregående skole\, Elias Smiths vei 15\, Sandvika\, 1337\, Norway
CATEGORIES:Klubbmøte
END:VEVENT
END:VCALENDAR