BEGIN:VCALENDAR
VERSION:2.0
PRODID:-//Abfotoklubb - ECPv6.15.17.1//NONSGML v1.0//EN
CALSCALE:GREGORIAN
METHOD:PUBLISH
X-ORIGINAL-URL:https://www.abfotoklubb.no
X-WR-CALDESC:Arrangement for Abfotoklubb
REFRESH-INTERVAL;VALUE=DURATION:PT1H
X-Robots-Tag:noindex
X-PUBLISHED-TTL:PT1H
BEGIN:VTIMEZONE
TZID:Europe/Oslo
BEGIN:DAYLIGHT
TZOFFSETFROM:+0100
TZOFFSETTO:+0200
TZNAME:CEST
DTSTART:20240331T010000
END:DAYLIGHT
BEGIN:STANDARD
TZOFFSETFROM:+0200
TZOFFSETTO:+0100
TZNAME:CET
DTSTART:20241027T010000
END:STANDARD
BEGIN:DAYLIGHT
TZOFFSETFROM:+0100
TZOFFSETTO:+0200
TZNAME:CEST
DTSTART:20250330T010000
END:DAYLIGHT
BEGIN:STANDARD
TZOFFSETFROM:+0200
TZOFFSETTO:+0100
TZNAME:CET
DTSTART:20251026T010000
END:STANDARD
BEGIN:DAYLIGHT
TZOFFSETFROM:+0100
TZOFFSETTO:+0200
TZNAME:CEST
DTSTART:20260329T010000
END:DAYLIGHT
BEGIN:STANDARD
TZOFFSETFROM:+0200
TZOFFSETTO:+0100
TZNAME:CET
DTSTART:20261025T010000
END:STANDARD
END:VTIMEZONE
BEGIN:VEVENT
DTSTART;TZID=Europe/Oslo:20250916T180000
DTEND;TZID=Europe/Oslo:20250916T210000
DTSTAMP:20260423T005447
CREATED:20241217T180453Z
LAST-MODIFIED:20241217T180453Z
UID:4056-1758045600-1758056400@www.abfotoklubb.no
SUMMARY:Innlevering 6 langsprint kl 18:00 og elektronisk møte kl 20:00
DESCRIPTION:Innleveringsfrist for den sjette langsprinten kl 18:00\, så møtes vi elektronisk kl 20:00 for gjennomgang av bildene.\nLink til møtet kommer i epost.
URL:https://www.abfotoklubb.no/hendelse/innlevering-6-langsprint-kl-1800-og-elektronisk-mote-kl-2000/
CATEGORIES:Fotosprint
END:VEVENT
END:VCALENDAR