BEGIN:VCALENDAR
VERSION:2.0
PRODID:-//Abfotoklubb - ECPv6.15.17.1//NONSGML v1.0//EN
CALSCALE:GREGORIAN
METHOD:PUBLISH
X-ORIGINAL-URL:https://www.abfotoklubb.no
X-WR-CALDESC:Arrangement for Abfotoklubb
REFRESH-INTERVAL;VALUE=DURATION:PT1H
X-Robots-Tag:noindex
X-PUBLISHED-TTL:PT1H
BEGIN:VTIMEZONE
TZID:Europe/Oslo
BEGIN:DAYLIGHT
TZOFFSETFROM:+0100
TZOFFSETTO:+0200
TZNAME:CEST
DTSTART:20230326T010000
END:DAYLIGHT
BEGIN:STANDARD
TZOFFSETFROM:+0200
TZOFFSETTO:+0100
TZNAME:CET
DTSTART:20231029T010000
END:STANDARD
BEGIN:DAYLIGHT
TZOFFSETFROM:+0100
TZOFFSETTO:+0200
TZNAME:CEST
DTSTART:20240331T010000
END:DAYLIGHT
BEGIN:STANDARD
TZOFFSETFROM:+0200
TZOFFSETTO:+0100
TZNAME:CET
DTSTART:20241027T010000
END:STANDARD
BEGIN:DAYLIGHT
TZOFFSETFROM:+0100
TZOFFSETTO:+0200
TZNAME:CEST
DTSTART:20250330T010000
END:DAYLIGHT
BEGIN:STANDARD
TZOFFSETFROM:+0200
TZOFFSETTO:+0100
TZNAME:CET
DTSTART:20251026T010000
END:STANDARD
END:VTIMEZONE
BEGIN:VEVENT
DTSTART;TZID=Europe/Oslo:20241029T120000
DTEND;TZID=Europe/Oslo:20241029T203000
DTSTAMP:20260423T133316
CREATED:20241013T203527Z
LAST-MODIFIED:20241013T203527Z
UID:3943-1730203200-1730233800@www.abfotoklubb.no
SUMMARY:Fotosprint - digitalt møte
DESCRIPTION:Du får utlevert et tema kl. 12. Du må innen kl. 18:30 levere inn på klubbens nettside. Bildet skal være uredigert direkte fra kameraet. Det betyr mao\, ingen beskjæring eller justering i redigeringsprogrammet i etterkant. Vi møtes deretter på Google Meet kl. 19 og ser på resultatene fra fotosprinten. Detaljer kommer senere.
URL:https://www.abfotoklubb.no/hendelse/fotosprint-digitalt-mote-2/
LOCATION:Zoom
CATEGORIES:Fotosprint
END:VEVENT
END:VCALENDAR