BEGIN:VCALENDAR
VERSION:2.0
PRODID:-//Abfotoklubb - ECPv6.15.17.1//NONSGML v1.0//EN
CALSCALE:GREGORIAN
METHOD:PUBLISH
X-WR-CALNAME:Abfotoklubb
X-ORIGINAL-URL:https://www.abfotoklubb.no
X-WR-CALDESC:Arrangement for Abfotoklubb
REFRESH-INTERVAL;VALUE=DURATION:PT1H
X-Robots-Tag:noindex
X-PUBLISHED-TTL:PT1H
BEGIN:VTIMEZONE
TZID:Europe/Oslo
BEGIN:DAYLIGHT
TZOFFSETFROM:+0100
TZOFFSETTO:+0200
TZNAME:CEST
DTSTART:20240331T010000
END:DAYLIGHT
BEGIN:STANDARD
TZOFFSETFROM:+0200
TZOFFSETTO:+0100
TZNAME:CET
DTSTART:20241027T010000
END:STANDARD
BEGIN:DAYLIGHT
TZOFFSETFROM:+0100
TZOFFSETTO:+0200
TZNAME:CEST
DTSTART:20250330T010000
END:DAYLIGHT
BEGIN:STANDARD
TZOFFSETFROM:+0200
TZOFFSETTO:+0100
TZNAME:CET
DTSTART:20251026T010000
END:STANDARD
BEGIN:DAYLIGHT
TZOFFSETFROM:+0100
TZOFFSETTO:+0200
TZNAME:CEST
DTSTART:20260329T010000
END:DAYLIGHT
BEGIN:STANDARD
TZOFFSETFROM:+0200
TZOFFSETTO:+0100
TZNAME:CET
DTSTART:20261025T010000
END:STANDARD
END:VTIMEZONE
BEGIN:VEVENT
DTSTART;TZID=Europe/Oslo:20250204T235900
DTEND;TZID=Europe/Oslo:20250204T235900
DTSTAMP:20260423T075842
CREATED:20241217T181539Z
LAST-MODIFIED:20241226T094654Z
UID:4059-1738713540-1738713540@www.abfotoklubb.no
SUMMARY:Innleveringsfrist månedskonkurransen februar
DESCRIPTION:Kvadratisk bildeformat / sort hvitt(fritt motiv) \nUtforsk fotografiets verden innenfor det kvadratiske formatet – en ramme som innbyr til kreativitet og balanse. Kvadratet utfordrer deg til å tenke annerledes enn det tradisjonelle rektangulære bildet\, og tvinger frem nye perspektiver og komposisjoner. \nHvordan kan du utnytte formatets symmetri\, linjer og rom? Kanskje et portrett der balansen står i fokus\, en abstrakt detalj som drar blikket innover\, eller et landskap som bryter med forventningene? Temaet gir deg frihet til å utforske både klassiske og moderne uttrykk – alt innenfor det kvadratiske rammeverket. \nLa kreativiteten blomstre og vis oss hvordan du mestrer denne unike bildestilen! 📸✨ \n 
URL:https://www.abfotoklubb.no/hendelse/innleveringsfrist-manedskonkurransen-februar/
CATEGORIES:Månedskonkurranse
END:VEVENT
BEGIN:VEVENT
DTSTART;TZID=Europe/Oslo:20250218T180000
DTEND;TZID=Europe/Oslo:20250218T180000
DTSTAMP:20260423T075842
CREATED:20241217T173234Z
LAST-MODIFIED:20241217T173234Z
UID:4012-1739901600-1739901600@www.abfotoklubb.no
SUMMARY:Innlevering 2 langsprint kl 18:00 og elektronisk møte kl 20:00
DESCRIPTION:Innleveringsfrist for den andre langsprinten kl 18:00\, så møtes vi elektronisk kl 20:00 for gjennomgang av bildene.\nLink til møtet kommer i epost.
URL:https://www.abfotoklubb.no/hendelse/innlevering-2-langsprint-kl-1800-og-elektronisk-mote-kl-2000/
CATEGORIES:Fotosprint
END:VEVENT
END:VCALENDAR